BEGIN:VCALENDAR
VERSION:2.0
PRODID:-//Beating Beta - ECPv6.15.20//NONSGML v1.0//EN
CALSCALE:GREGORIAN
METHOD:PUBLISH
X-WR-CALNAME:Beating Beta
X-ORIGINAL-URL:https://beating-beta.de
X-WR-CALDESC:Veranstaltungen für Beating Beta
REFRESH-INTERVAL;VALUE=DURATION:PT1H
X-Robots-Tag:noindex
X-PUBLISHED-TTL:PT1H
BEGIN:VTIMEZONE
TZID:Europe/Berlin
BEGIN:DAYLIGHT
TZOFFSETFROM:+0100
TZOFFSETTO:+0200
TZNAME:CEST
DTSTART:20250330T010000
END:DAYLIGHT
BEGIN:STANDARD
TZOFFSETFROM:+0200
TZOFFSETTO:+0100
TZNAME:CET
DTSTART:20251026T010000
END:STANDARD
BEGIN:DAYLIGHT
TZOFFSETFROM:+0100
TZOFFSETTO:+0200
TZNAME:CEST
DTSTART:20260329T010000
END:DAYLIGHT
BEGIN:STANDARD
TZOFFSETFROM:+0200
TZOFFSETTO:+0100
TZNAME:CET
DTSTART:20261025T010000
END:STANDARD
BEGIN:DAYLIGHT
TZOFFSETFROM:+0100
TZOFFSETTO:+0200
TZNAME:CEST
DTSTART:20270328T010000
END:DAYLIGHT
BEGIN:STANDARD
TZOFFSETFROM:+0200
TZOFFSETTO:+0100
TZNAME:CET
DTSTART:20271031T010000
END:STANDARD
END:VTIMEZONE
BEGIN:VEVENT
DTSTART;TZID=Europe/Berlin:20260421T170000
DTEND;TZID=Europe/Berlin:20260421T180000
DTSTAMP:20260423T110057
CREATED:20260407T122653Z
LAST-MODIFIED:20260407T123549Z
UID:10000085-1776790800-1776794400@beating-beta.de
SUMMARY:Rohstoffe & Iran-Konflikt – was nun? // Das Live-Webinar mit Christoph Eibl
DESCRIPTION:Wie entwickelt sich der Ölpreis? Welche Rohstoffe sind jetzt besonders spannend? Und was sind mögliche Szenarien im Iran-Konflikt\, auf die sich Anleger vorbereiten müssen? Christoph Eibl ist Rohstoff-Experte bei Tiberius Asset Management AG und liefert die Antworten auf die wirklich wichtigen Fragen. Exklusiv nur für Beating Beta+ Mitglieder.
URL:https://beating-beta.de/event/rohstoffe-iran-konflikt-was-nun-das-live-webinar-mit-christoph-eibl/
CATEGORIES:Experts
ATTACH;FMTTYPE=image/jpeg:https://beating-beta.de/wp-content/uploads/2026/04/Email_Header-30.jpg
LOCATION:https://us06web.zoom.us/j/87028512054
END:VEVENT
END:VCALENDAR